BEGIN:VCALENDAR
VERSION:2.0
PRODID:icalendar-ruby
CALSCALE:GREGORIAN
METHOD:PUBLISH
BEGIN:VEVENT
DTSTAMP:20260422T191432Z
UID:17-960565@faithtofaithchristianministry.com
DTSTART:20260918T020000Z
DTEND:20260918T030000Z
CLASS:PUBLIC
CREATED:20260422T103938
DESCRIPTION:
LAST-MODIFIED:20260422T103938
LOCATION:755 Bard Rd. Port Hueneme (Room 1)
SUMMARY:Men's Group
URL;VALUE=URI:https://www.faithtofaithchristianministry.com/events/mens-gro
 up/2026-09-17
ATTACH;FILENAME=FwH8S.jpg;FMTTYPE=image/jpeg:https://dq5pwpg1q8ru0.cloudfro
 nt.net/2024/04/16/20/41/46/123f2f40-3918-45be-a815-c14a90657ac4/FwH8S.jpg
END:VEVENT
END:VCALENDAR
